BEGIN:VCALENDAR
VERSION:2.0
PRODID:-//raleigh1013.com - ECPv6.15.20//NONSGML v1.0//EN
CALSCALE:GREGORIAN
METHOD:PUBLISH
X-WR-CALNAME:raleigh1013.com
X-ORIGINAL-URL:https://www.raleigh1013.com
X-WR-CALDESC:Events for raleigh1013.com
REFRESH-INTERVAL;VALUE=DURATION:PT1H
X-Robots-Tag:noindex
X-PUBLISHED-TTL:PT1H
BEGIN:VTIMEZONE
TZID:America/New_York
BEGIN:DAYLIGHT
TZOFFSETFROM:-0500
TZOFFSETTO:-0400
TZNAME:EDT
DTSTART:20200308T070000
END:DAYLIGHT
BEGIN:STANDARD
TZOFFSETFROM:-0400
TZOFFSETTO:-0500
TZNAME:EST
DTSTART:20201101T060000
END:STANDARD
BEGIN:DAYLIGHT
TZOFFSETFROM:-0500
TZOFFSETTO:-0400
TZNAME:EDT
DTSTART:20210314T070000
END:DAYLIGHT
BEGIN:STANDARD
TZOFFSETFROM:-0400
TZOFFSETTO:-0500
TZNAME:EST
DTSTART:20211107T060000
END:STANDARD
BEGIN:DAYLIGHT
TZOFFSETFROM:-0500
TZOFFSETTO:-0400
TZNAME:EDT
DTSTART:20220313T070000
END:DAYLIGHT
BEGIN:STANDARD
TZOFFSETFROM:-0400
TZOFFSETTO:-0500
TZNAME:EST
DTSTART:20221106T060000
END:STANDARD
END:VTIMEZONE
BEGIN:VEVENT
DTSTART;TZID=America/New_York:20211021T171500
DTEND;TZID=America/New_York:20211021T190000
DTSTAMP:20260419T215313
CREATED:20211020T162024Z
LAST-MODIFIED:20211020T162024Z
UID:26253-1634836500-1634842800@www.raleigh1013.com
SUMMARY:Funeral Detail for Knightdale Officer Ryan Haworth
DESCRIPTION:  \nPlease Sign Up
URL:https://www.raleigh1013.com/event/funeral-detail-for-knightdale-officer-ryan-haworth/
LOCATION:NC
END:VEVENT
END:VCALENDAR