BEGIN:VCALENDAR
VERSION:2.0
PRODID:-//raleigh1013.com - ECPv6.15.20//NONSGML v1.0//EN
CALSCALE:GREGORIAN
METHOD:PUBLISH
X-WR-CALNAME:raleigh1013.com
X-ORIGINAL-URL:https://www.raleigh1013.com
X-WR-CALDESC:Events for raleigh1013.com
REFRESH-INTERVAL;VALUE=DURATION:PT1H
X-Robots-Tag:noindex
X-PUBLISHED-TTL:PT1H
BEGIN:VTIMEZONE
TZID:America/New_York
BEGIN:DAYLIGHT
TZOFFSETFROM:-0500
TZOFFSETTO:-0400
TZNAME:EDT
DTSTART:20200308T070000
END:DAYLIGHT
BEGIN:STANDARD
TZOFFSETFROM:-0400
TZOFFSETTO:-0500
TZNAME:EST
DTSTART:20201101T060000
END:STANDARD
BEGIN:DAYLIGHT
TZOFFSETFROM:-0500
TZOFFSETTO:-0400
TZNAME:EDT
DTSTART:20210314T070000
END:DAYLIGHT
BEGIN:STANDARD
TZOFFSETFROM:-0400
TZOFFSETTO:-0500
TZNAME:EST
DTSTART:20211107T060000
END:STANDARD
BEGIN:DAYLIGHT
TZOFFSETFROM:-0500
TZOFFSETTO:-0400
TZNAME:EDT
DTSTART:20220313T070000
END:DAYLIGHT
BEGIN:STANDARD
TZOFFSETFROM:-0400
TZOFFSETTO:-0500
TZNAME:EST
DTSTART:20221106T060000
END:STANDARD
END:VTIMEZONE
BEGIN:VEVENT
DTSTART;TZID=America/New_York:20210911T180000
DTEND;TZID=America/New_York:20210911T200000
DTSTAMP:20260419T215314
CREATED:20210909T120553Z
LAST-MODIFIED:20210909T120731Z
UID:26203-1631383200-1631390400@www.raleigh1013.com
SUMMARY:Morrisville PD / FD 9/11 memorial battle of the badges
DESCRIPTION:“9/11  – Battle of the Badges”  Softball\n\n\n Morrisville Police Department and Morrisville Fire/Rescue Department will compete against each other in a softball game \nThe game will be held at the Morrisville Community Park – 1520 Morrisville Pkwy\, Morrisville\, NC 27560 Saturday Sept 11 \n\n\n\nhttps://www.townofmorrisville.org/government/departments-services/parks-recreation-cultural-resources/parks-and-greenways/morrisville-community-park \n6pm Start – 6 innings.
URL:https://www.raleigh1013.com/event/morrisville-pd-fd-9-11-memorial-battle-of-the-badges/
LOCATION:MORRISVILLE COMMUNITY PARK\, 1520 Morrisville Pkwy\, Morrisville\, 27560\, United States
END:VEVENT
END:VCALENDAR