BEGIN:VCALENDAR
VERSION:2.0
PRODID:-//raleigh1013.com - ECPv6.15.20//NONSGML v1.0//EN
CALSCALE:GREGORIAN
METHOD:PUBLISH
X-WR-CALNAME:raleigh1013.com
X-ORIGINAL-URL:https://www.raleigh1013.com
X-WR-CALDESC:Events for raleigh1013.com
REFRESH-INTERVAL;VALUE=DURATION:PT1H
X-Robots-Tag:noindex
X-PUBLISHED-TTL:PT1H
BEGIN:VTIMEZONE
TZID:America/New_York
BEGIN:DAYLIGHT
TZOFFSETFROM:-0500
TZOFFSETTO:-0400
TZNAME:EDT
DTSTART:20200308T070000
END:DAYLIGHT
BEGIN:STANDARD
TZOFFSETFROM:-0400
TZOFFSETTO:-0500
TZNAME:EST
DTSTART:20201101T060000
END:STANDARD
BEGIN:DAYLIGHT
TZOFFSETFROM:-0500
TZOFFSETTO:-0400
TZNAME:EDT
DTSTART:20210314T070000
END:DAYLIGHT
BEGIN:STANDARD
TZOFFSETFROM:-0400
TZOFFSETTO:-0500
TZNAME:EST
DTSTART:20211107T060000
END:STANDARD
BEGIN:DAYLIGHT
TZOFFSETFROM:-0500
TZOFFSETTO:-0400
TZNAME:EDT
DTSTART:20220313T070000
END:DAYLIGHT
BEGIN:STANDARD
TZOFFSETFROM:-0400
TZOFFSETTO:-0500
TZNAME:EST
DTSTART:20221106T060000
END:STANDARD
END:VTIMEZONE
BEGIN:VEVENT
DTSTART;TZID=America/New_York:20211129T174500
DTEND;TZID=America/New_York:20211129T200000
DTSTAMP:20260419T191400
CREATED:20211127T210522Z
LAST-MODIFIED:20211127T210900Z
UID:26274-1638207900-1638216000@www.raleigh1013.com
SUMMARY:Wake for Retired Correction Corporal Brian Holt
DESCRIPTION:Hi All\,\n\nWe were contacted by a retired detective from JTTF in regard to a 9/11 first responder in the area who died of related cancer.\n\nhttps://www.nassaucoba.com/news/funeral-arrangements-for-retired-correction-corporal-brian-holt\n\nhttps://www.dignitymemorial.com/obituaries/clayton-nc/brian-holt-10458702\n\nWe need members to attend the Wake / Funeral in Clayton to show our support.
URL:https://www.raleigh1013.com/event/wake-for-retired-correction-corporal-brian-holt/
LOCATION:MCLAURIN FUNERAL HOME\, 12830 US 70 Bus Hwy W\, Clayton\, NC\, 27520\, United States
END:VEVENT
BEGIN:VEVENT
DTSTART;TZID=America/New_York:20211130T100000
DTEND;TZID=America/New_York:20211130T120000
DTSTAMP:20260419T191400
CREATED:20211127T210825Z
LAST-MODIFIED:20211127T210835Z
UID:26277-1638266400-1638273600@www.raleigh1013.com
SUMMARY:Funeral for Retired Correction Corporal Brian Holt
DESCRIPTION:Hi All\,\n\nWe were contacted by a retired detective from JTTF in regard to a 9/11 first responder in the area who died of related cancer.\n\nhttps://www.nassaucoba.com/news/funeral-arrangements-for-retired-correction-corporal-brian-holt\n\nhttps://www.dignitymemorial.com/obituaries/clayton-nc/brian-holt-10458702\n\nWe need members to attend the Wake / Funeral in Clayton to show our support.
URL:https://www.raleigh1013.com/event/funeral-for-retired-correction-corporal-brian-holt/
LOCATION:SAINT ANN CATHOLIC CHURCH\, 4057 US 70 Business Highway W\, Clayton\, NC\, 27520\, United States
END:VEVENT
END:VCALENDAR